BEGIN:VCALENDAR
VERSION:2.0
PRODID:-//Housechurch - ECPv6.0.11//NONSGML v1.0//EN
CALSCALE:GREGORIAN
METHOD:PUBLISH
X-ORIGINAL-URL:https://eng.housechurch.global
X-WR-CALDESC:Events for Housechurch
REFRESH-INTERVAL;VALUE=DURATION:PT1H
X-Robots-Tag:noindex
X-PUBLISHED-TTL:PT1H
BEGIN:VTIMEZONE
TZID:UTC
BEGIN:STANDARD
TZOFFSETFROM:+0000
TZOFFSETTO:+0000
TZNAME:UTC
DTSTART:20240101T000000
END:STANDARD
END:VTIMEZONE
BEGIN:VEVENT
DTSTART;VALUE=DATE:20240808
DTEND;VALUE=DATE:20240811
DTSTAMP:20260422T215856
CREATED:20240222T230858Z
LAST-MODIFIED:20250305T152325Z
UID:988362-1723075200-1723334399@eng.housechurch.global
SUMMARY:North America Shepherd Conference
DESCRIPTION:Register Here\nRegistration opens 05/15/2024 at 8:00am Central \nFAQs\n\nEarly Bird Registration – May 15 – May 31 – $200 per person ($350 for couple)\nDiscount will automatically be applied at checkout\nRegular Registration – June 1 – June 21 – $250 per person ($400 for couple)\nLodging – Sheraton Brookhollow – Houston\, included in registration fee\nAdditional Nights – $96/night\nDining – all meals starting with Thursday lunch and ending with Saturday lunch are included in the registration fee\nTransportation – rides will be provided to and from the airport\nSpouses – each spouse must submit their own separate registration\nChildcare – none\, this is an adult only conference\n\nLast Year’s Schedule
URL:https://eng.housechurch.global/events/north-america-shepherd-conference-2024/
LOCATION:Sheraton Houston Brookhollow\, 3000 N. Loop W.\, Houston\, TX\, 77092\, United States
ORGANIZER;CN="New%20Life%20Fellowship%20%28HC%20International%29":MAILTO:hcinternational@nlfhouston.org
END:VEVENT
END:VCALENDAR